BEGIN:VCALENDAR
VERSION:2.0
PRODID:-//Ariarathes Duo - ECPv6.15.20//NONSGML v1.0//EN
CALSCALE:GREGORIAN
METHOD:PUBLISH
X-WR-CALNAME:Ariarathes Duo
X-ORIGINAL-URL:https://www.ariarathes-duo.com/en
X-WR-CALDESC:Events for Ariarathes Duo
REFRESH-INTERVAL;VALUE=DURATION:PT1H
X-Robots-Tag:noindex
X-PUBLISHED-TTL:PT1H
BEGIN:VTIMEZONE
TZID:Europe/Vienna
BEGIN:DAYLIGHT
TZOFFSETFROM:+0100
TZOFFSETTO:+0200
TZNAME:CEST
DTSTART:20220327T010000
END:DAYLIGHT
BEGIN:STANDARD
TZOFFSETFROM:+0200
TZOFFSETTO:+0100
TZNAME:CET
DTSTART:20221030T010000
END:STANDARD
BEGIN:DAYLIGHT
TZOFFSETFROM:+0100
TZOFFSETTO:+0200
TZNAME:CEST
DTSTART:20230326T010000
END:DAYLIGHT
BEGIN:STANDARD
TZOFFSETFROM:+0200
TZOFFSETTO:+0100
TZNAME:CET
DTSTART:20231029T010000
END:STANDARD
BEGIN:DAYLIGHT
TZOFFSETFROM:+0100
TZOFFSETTO:+0200
TZNAME:CEST
DTSTART:20240331T010000
END:DAYLIGHT
BEGIN:STANDARD
TZOFFSETFROM:+0200
TZOFFSETTO:+0100
TZNAME:CET
DTSTART:20241027T010000
END:STANDARD
BEGIN:DAYLIGHT
TZOFFSETFROM:+0100
TZOFFSETTO:+0200
TZNAME:CEST
DTSTART:20250330T010000
END:DAYLIGHT
BEGIN:STANDARD
TZOFFSETFROM:+0200
TZOFFSETTO:+0100
TZNAME:CET
DTSTART:20251026T010000
END:STANDARD
BEGIN:DAYLIGHT
TZOFFSETFROM:+0100
TZOFFSETTO:+0200
TZNAME:CEST
DTSTART:20260329T010000
END:DAYLIGHT
BEGIN:STANDARD
TZOFFSETFROM:+0200
TZOFFSETTO:+0100
TZNAME:CET
DTSTART:20261025T010000
END:STANDARD
BEGIN:DAYLIGHT
TZOFFSETFROM:+0100
TZOFFSETTO:+0200
TZNAME:CEST
DTSTART:20270328T010000
END:DAYLIGHT
BEGIN:STANDARD
TZOFFSETFROM:+0200
TZOFFSETTO:+0100
TZNAME:CET
DTSTART:20271031T010000
END:STANDARD
END:VTIMEZONE
BEGIN:VEVENT
DTSTART;TZID=Europe/Vienna:20260315T110000
DTEND;TZID=Europe/Vienna:20260315T130000
DTSTAMP:20260419T185755
CREATED:20251002T183428Z
LAST-MODIFIED:20251002T183428Z
UID:1271-1773572400-1773579600@www.ariarathes-duo.com
SUMMARY:Im Schatten Dvořaks
DESCRIPTION:Werke von Z. Fibich und B. Martinů mit Mitgliedern des Tiroler Symphonieorchester Innsbruck
URL:https://www.ariarathes-duo.com/en/veranstaltung/im-schatten-dvoraks/
LOCATION:Haus der Musik\, Innsbruck\, Austria
CATEGORIES:Duo
END:VEVENT
BEGIN:VEVENT
DTSTART;TZID=Europe/Vienna:20260221T200000
DTEND;TZID=Europe/Vienna:20260221T220000
DTSTAMP:20260419T185755
CREATED:20251002T183206Z
LAST-MODIFIED:20251002T183206Z
UID:1269-1771704000-1771711200@www.ariarathes-duo.com
SUMMARY:Des Traumes Inhalt…
DESCRIPTION:Werke von L.v. Beethoven & C. Franck
URL:https://www.ariarathes-duo.com/en/veranstaltung/des-traumes-inhalt/
LOCATION:Schloss Goldrain\, Goldrain\, Italy
CATEGORIES:Duo
END:VEVENT
BEGIN:VEVENT
DTSTART;TZID=Europe/Vienna:20251207T170000
DTEND;TZID=Europe/Vienna:20251207T190000
DTSTAMP:20260419T185755
CREATED:20250413T144659Z
LAST-MODIFIED:20250413T144659Z
UID:1242-1765126800-1765134000@www.ariarathes-duo.com
SUMMARY:Saint-Saëns: Klavierkonzert Nr. 2
DESCRIPTION:Mit Pfarrorchester Weilerswist
URL:https://www.ariarathes-duo.com/en/veranstaltung/saint-saens-klavierkonzert-nr-2/
LOCATION:Evangelische Kirche Weilerswist\, Weilerswist\, Germany
CATEGORIES:Solo Nika
END:VEVENT
BEGIN:VEVENT
DTSTART;TZID=Europe/Vienna:20251025T163000
DTEND;TZID=Europe/Vienna:20251025T183000
DTSTAMP:20260419T185755
CREATED:20250413T144527Z
LAST-MODIFIED:20250413T144527Z
UID:1240-1761409800-1761417000@www.ariarathes-duo.com
SUMMARY:Blind Date
DESCRIPTION:Werke von Schulhoff \nMit Mitgliedern des Tiroler Symphonieorchester Innsbruck
URL:https://www.ariarathes-duo.com/en/veranstaltung/blind-date/
LOCATION:Haus der Musik\, Innsbruck\, Austria
CATEGORIES:Solo Jakob
END:VEVENT
BEGIN:VEVENT
DTSTART;TZID=Europe/Vienna:20251012T110000
DTEND;TZID=Europe/Vienna:20251012T130000
DTSTAMP:20260419T185755
CREATED:20250413T144417Z
LAST-MODIFIED:20250413T144423Z
UID:1238-1760266800-1760274000@www.ariarathes-duo.com
SUMMARY:In Memoriam...
DESCRIPTION:Werke von Arensky und Schostakowitsch \nMit Mitgliedern des Tiroler Symphonieorchester Innsbruck
URL:https://www.ariarathes-duo.com/en/veranstaltung/in-memoriam/
LOCATION:Haus der Musik\, Innsbruck\, Austria
CATEGORIES:Solo Jakob
END:VEVENT
BEGIN:VEVENT
DTSTART;TZID=Europe/Vienna:20251011T110000
DTEND;TZID=Europe/Vienna:20251011T130000
DTSTAMP:20260419T185755
CREATED:20251002T183016Z
LAST-MODIFIED:20251002T183016Z
UID:1267-1760180400-1760187600@www.ariarathes-duo.com
SUMMARY:Komponistinnen & Meran
DESCRIPTION:Werke von D. Pejačević\, R. Guerini\, A. Beach & C. Schumann mit Ohad Cohen (Geige)
URL:https://www.ariarathes-duo.com/en/veranstaltung/komponistinnen-meran/
LOCATION:Pavillon des Fleurs\, Meran\, Italy
CATEGORIES:Duo
END:VEVENT
BEGIN:VEVENT
DTSTART;TZID=Europe/Vienna:20250906T110000
DTEND;TZID=Europe/Vienna:20250906T130000
DTSTAMP:20260419T185755
CREATED:20250413T143854Z
LAST-MODIFIED:20250413T143854Z
UID:1233-1757156400-1757163600@www.ariarathes-duo.com
SUMMARY:Trio Meran-Teheran
DESCRIPTION:Werke von Beethoven\, Muczinsky & Brahms \nMit Andrea Gösch (Klarinette\, Wiener Philharmoniker) \nSüdtirol Festival\, Meraner Musikwochen
URL:https://www.ariarathes-duo.com/en/veranstaltung/trio-meran-teheran/
LOCATION:Pavillon des Fleurs\, Meran\, Italy
CATEGORIES:Duo
END:VEVENT
BEGIN:VEVENT
DTSTART;TZID=Europe/Vienna:20250711T210000
DTEND;TZID=Europe/Vienna:20250711T230000
DTSTAMP:20260419T185755
CREATED:20250413T143212Z
LAST-MODIFIED:20250413T143212Z
UID:1230-1752267600-1752274800@www.ariarathes-duo.com
SUMMARY:Early Works and Swansongs
DESCRIPTION:Werke von Debussy\, Beethoven und Chopin
URL:https://www.ariarathes-duo.com/en/veranstaltung/early-works-and-swansongs/
LOCATION:Badia Musica\, San Leonardo 10\, Badia\, 39036\, Italy
CATEGORIES:Duo
END:VEVENT
BEGIN:VEVENT
DTSTART;TZID=Europe/Vienna:20250607T200000
DTEND;TZID=Europe/Vienna:20250607T220000
DTSTAMP:20260419T185755
CREATED:20250413T144209Z
LAST-MODIFIED:20250413T144209Z
UID:1235-1749326400-1749333600@www.ariarathes-duo.com
SUMMARY:Reciproco Amore mit Amarida Ensemble
DESCRIPTION:Boccherini: Konzert für Violoncello und Orchester in G\nMit Amarida Ensemble
URL:https://www.ariarathes-duo.com/en/veranstaltung/reciproco-amore-mit-amarida-ensemble/
LOCATION:Evangelische Pfarrkirche Meran\, Carduccistraße 31\, Meran\, 39012\, Italy
CATEGORIES:Solo Jakob
END:VEVENT
BEGIN:VEVENT
DTSTART;TZID=Europe/Vienna:20250405T180000
DTEND;TZID=Europe/Vienna:20250405T200000
DTSTAMP:20260419T185755
CREATED:20250413T142902Z
LAST-MODIFIED:20250413T142902Z
UID:1227-1743876000-1743883200@www.ariarathes-duo.com
SUMMARY:Volksmusik...?
DESCRIPTION:Werke von Beethoven\, Janáček\, Schumann & Piazzolla
URL:https://www.ariarathes-duo.com/en/veranstaltung/volksmusik/
LOCATION:Musikschule Garmisch Partenkirchen\, Olympiastraße 20\, Garmisch-Partenkirchen\, 82467\, Germany
CATEGORIES:Duo
END:VEVENT
BEGIN:VEVENT
DTSTART;VALUE=DATE:20250330
DTEND;VALUE=DATE:20250331
DTSTAMP:20260419T185755
CREATED:20240908T080237Z
LAST-MODIFIED:20240908T080341Z
UID:1182-1743292800-1743379199@www.ariarathes-duo.com
SUMMARY:Werke von Schubert und Brahms
DESCRIPTION:mit Mitgliedern des TSOI
URL:https://www.ariarathes-duo.com/en/veranstaltung/werke-von-schubert-und-brahms/
LOCATION:Haus der Musik\, Innsbruck\, Austria
CATEGORIES:Duo
END:VEVENT
BEGIN:VEVENT
DTSTART;VALUE=DATE:20250328
DTEND;VALUE=DATE:20250329
DTSTAMP:20260419T185755
CREATED:20241102T160737Z
LAST-MODIFIED:20241102T160737Z
UID:1207-1743120000-1743206399@www.ariarathes-duo.com
SUMMARY:"Der Musik-Baukasten"
DESCRIPTION:mit Mitgliedern des TSOI
URL:https://www.ariarathes-duo.com/en/veranstaltung/der-musik-baukasten/
LOCATION:Haus der Musik\, Innsbruck\, Austria
CATEGORIES:Duo
END:VEVENT
BEGIN:VEVENT
DTSTART;VALUE=DATE:20250222
DTEND;VALUE=DATE:20250223
DTSTAMP:20260419T185755
CREATED:20240908T080327Z
LAST-MODIFIED:20240908T080327Z
UID:1184-1740182400-1740268799@www.ariarathes-duo.com
SUMMARY:Blind Date: Werke von Anton Arensky
DESCRIPTION:mit Mitgliedern des TSOI
URL:https://www.ariarathes-duo.com/en/veranstaltung/blind-date-werke-von-anton-arensky/
LOCATION:Haus der Musik\, Innsbruck\, Austria
CATEGORIES:Duo
END:VEVENT
BEGIN:VEVENT
DTSTART;VALUE=DATE:20250126
DTEND;VALUE=DATE:20250127
DTSTAMP:20260419T185755
CREATED:20240908T080132Z
LAST-MODIFIED:20240908T080132Z
UID:1180-1737849600-1737935999@www.ariarathes-duo.com
SUMMARY:Werke von JM Weber
DESCRIPTION:mit Mitgliedern des TSOI
URL:https://www.ariarathes-duo.com/en/veranstaltung/werke-von-jm-weber/
LOCATION:Haus der Musik\, Innsbruck\, Austria
CATEGORIES:Solo Jakob
END:VEVENT
BEGIN:VEVENT
DTSTART;VALUE=DATE:20241124
DTEND;VALUE=DATE:20241125
DTSTAMP:20260419T185755
CREATED:20240908T075653Z
LAST-MODIFIED:20240908T075653Z
UID:1173-1732406400-1732492799@www.ariarathes-duo.com
SUMMARY:Chopin 1. Klavierkonzert
DESCRIPTION:mit Pfarrorchester Weilerswist
URL:https://www.ariarathes-duo.com/en/veranstaltung/chopin-1-klavierkonzert/
LOCATION:Martin Luther Kirche Weilerswirst\, Deutschland
CATEGORIES:Solo Nika
END:VEVENT
BEGIN:VEVENT
DTSTART;VALUE=DATE:20241103
DTEND;VALUE=DATE:20241104
DTSTAMP:20260419T185755
CREATED:20240908T075752Z
LAST-MODIFIED:20240908T075814Z
UID:1175-1730592000-1730678399@www.ariarathes-duo.com
SUMMARY:Werke von Hindemith
DESCRIPTION:mit Mitgliedern des TSOI
URL:https://www.ariarathes-duo.com/en/veranstaltung/werke-von-hindemith/
LOCATION:Haus der Musik\, Innsbruck\, Austria
CATEGORIES:Solo Jakob
END:VEVENT
BEGIN:VEVENT
DTSTART;VALUE=DATE:20240831
DTEND;VALUE=DATE:20240901
DTSTAMP:20260419T185755
CREATED:20240426T085417Z
LAST-MODIFIED:20240428T120643Z
UID:1137-1725062400-1725148799@www.ariarathes-duo.com
SUMMARY:Klarinettentrios von Beethoven\, Muczynski und Brahms
DESCRIPTION:Mit Andrea Götsch (Klarinette)\, Festival Dolomites 2024
URL:https://www.ariarathes-duo.com/en/veranstaltung/klarinettentrios-von-beethoven-muczynski-und-brahms/
LOCATION:Grand Hotel Toblach\, Dolomitenstraße 41\, Toblach\, 39034\, Italy
CATEGORIES:Duo
END:VEVENT
BEGIN:VEVENT
DTSTART;VALUE=DATE:20240826
DTEND;VALUE=DATE:20240827
DTSTAMP:20260419T185755
CREATED:20240426T090301Z
LAST-MODIFIED:20240426T090301Z
UID:1143-1724630400-1724716799@www.ariarathes-duo.com
SUMMARY:Boccherini Cellokonzert in G
DESCRIPTION:
URL:https://www.ariarathes-duo.com/en/veranstaltung/boccherini-cellokonzert-in-g-2/
LOCATION:Stiftskirche Innichen\, Attostraße 1\, Innichen\, 39038\, Italy
CATEGORIES:Solo Jakob
END:VEVENT
BEGIN:VEVENT
DTSTART;VALUE=DATE:20240825
DTEND;VALUE=DATE:20240826
DTSTAMP:20260419T185755
CREATED:20240426T085817Z
LAST-MODIFIED:20240428T121326Z
UID:1140-1724544000-1724630399@www.ariarathes-duo.com
SUMMARY:Boccherini Cellokonzert in G
DESCRIPTION:Mit Amarida Ensemble
URL:https://www.ariarathes-duo.com/en/veranstaltung/boccherini-cellokonzert-in-g/
LOCATION:Pfarrkirche Reischach\, Prack-zu-Asch-Straße\, Reischach\, 39031\, Italy
CATEGORIES:Solo Jakob
END:VEVENT
BEGIN:VEVENT
DTSTART;VALUE=DATE:20240609
DTEND;VALUE=DATE:20240610
DTSTAMP:20260419T185755
CREATED:20231121T110612Z
LAST-MODIFIED:20240428T120023Z
UID:1087-1717891200-1717977599@www.ariarathes-duo.com
SUMMARY:Sonatenabend: Bach\, Beethoven und Rachmaninoff
DESCRIPTION:
URL:https://www.ariarathes-duo.com/en/veranstaltung/sonatenabend-bach-beethoven-und-rachmaninoff/
LOCATION:Kommende Lengmoos\, Lengmoos am Ritten\, Italy
CATEGORIES:Duo
END:VEVENT
BEGIN:VEVENT
DTSTART;VALUE=DATE:20240525
DTEND;VALUE=DATE:20240526
DTSTAMP:20260419T185755
CREATED:20240426T084856Z
LAST-MODIFIED:20240426T084856Z
UID:1135-1716595200-1716681599@www.ariarathes-duo.com
SUMMARY:Beethoven Klavierkonzert Nr.1
DESCRIPTION:
URL:https://www.ariarathes-duo.com/en/veranstaltung/beethoven-klavierkonzert-nr-1/
LOCATION:Peter Thalguter Haus\, Algund\, Italy
CATEGORIES:Solo Nika
END:VEVENT
BEGIN:VEVENT
DTSTART;VALUE=DATE:20240421
DTEND;VALUE=DATE:20240422
DTSTAMP:20260419T185755
CREATED:20231121T110401Z
LAST-MODIFIED:20231121T110401Z
UID:1085-1713657600-1713743999@www.ariarathes-duo.com
SUMMARY:Rezital: Beethoven\, Brahms\, Janacek und Schubert
DESCRIPTION:
URL:https://www.ariarathes-duo.com/en/veranstaltung/rezital-beethoven-brahms-janacek-und-schubert/
LOCATION:Evangelische Kirche Weilerswist\, Weilerswist\, Germany
CATEGORIES:Solo Nika
END:VEVENT
BEGIN:VEVENT
DTSTART;VALUE=DATE:20240407
DTEND;VALUE=DATE:20240408
DTSTAMP:20260419T185755
CREATED:20231121T110243Z
LAST-MODIFIED:20231121T110243Z
UID:1083-1712448000-1712534399@www.ariarathes-duo.com
SUMMARY:Wagner Vorspiel aus Tristan und Isolde & Wesendonck Lieder
DESCRIPTION:mit Mitgliedern des Tiroler Symphonieorchesters
URL:https://www.ariarathes-duo.com/en/veranstaltung/wagner-vorspiel-aus-tristan-und-isolde-wesendonck-lieder/
LOCATION:Haus der Musik\, Innsbruck\, Austria
CATEGORIES:Solo Jakob
END:VEVENT
BEGIN:VEVENT
DTSTART;VALUE=DATE:20240121
DTEND;VALUE=DATE:20240122
DTSTAMP:20260419T185755
CREATED:20231121T110104Z
LAST-MODIFIED:20231121T110104Z
UID:1081-1705795200-1705881599@www.ariarathes-duo.com
SUMMARY:Matinée: Mendelssohn\, Beethoven\, Chopin und Debussy
DESCRIPTION:
URL:https://www.ariarathes-duo.com/en/veranstaltung/matinee-mendelssohn-beethoven-chopin-und-debussy/
LOCATION:Pavillon des Fleurs\, Meran\, Italy
CATEGORIES:Duo
END:VEVENT
BEGIN:VEVENT
DTSTART;VALUE=DATE:20240114
DTEND;VALUE=DATE:20240115
DTSTAMP:20260419T185755
CREATED:20231121T105938Z
LAST-MODIFIED:20231121T105938Z
UID:1079-1705190400-1705276799@www.ariarathes-duo.com
SUMMARY:Brahms Streichsextett op. 18
DESCRIPTION:mit Mitgliedern des Tiroler Symphonieorchesters
URL:https://www.ariarathes-duo.com/en/veranstaltung/brahms-streichsextett-op-18/
LOCATION:Haus der Musik\, Innsbruck\, Austria
CATEGORIES:Solo Jakob
END:VEVENT
BEGIN:VEVENT
DTSTART;VALUE=DATE:20231201
DTEND;VALUE=DATE:20231202
DTSTAMP:20260419T185755
CREATED:20231121T102903Z
LAST-MODIFIED:20231121T105802Z
UID:1076-1701388800-1701475199@www.ariarathes-duo.com
SUMMARY:Mozart: Quintett für Bläser und Klavier KV 452
DESCRIPTION:mit Ensemble Philomousia
URL:https://www.ariarathes-duo.com/en/veranstaltung/mozart-quintett-fuer-blaeser-und-klavier-kv-452/
LOCATION:Schloss Goldrain\, Goldrain\, Italy
CATEGORIES:Solo Nika
END:VEVENT
BEGIN:VEVENT
DTSTART;VALUE=DATE:20231126
DTEND;VALUE=DATE:20231127
DTSTAMP:20260419T185755
CREATED:20231121T102718Z
LAST-MODIFIED:20231121T102718Z
UID:1074-1700956800-1701043199@www.ariarathes-duo.com
SUMMARY:Felix Mendelssohn Bartholdy Klavierkonzert Nr.1 op. 25
DESCRIPTION:mit dem Sinfonieorchester Weilerswist unter der Leitung von Klaus Heiwolt
URL:https://www.ariarathes-duo.com/en/veranstaltung/felix-mendelssohn-bartholdy-klavierkonzert-nr-1-op-25/
LOCATION:Evangelische Kirche Weilerswist\, Weilerswist\, Germany
CATEGORIES:Solo Nika
END:VEVENT
BEGIN:VEVENT
DTSTART;VALUE=DATE:20231125
DTEND;VALUE=DATE:20231126
DTSTAMP:20260419T185755
CREATED:20231121T102445Z
LAST-MODIFIED:20231121T102445Z
UID:1071-1700870400-1700956799@www.ariarathes-duo.com
SUMMARY:Camille Saint-Saëns Cellokonzert Nr. 1 op. 33
DESCRIPTION:Orchester der Musikfreunde Meran unter der Leitung von Andrea Götsch
URL:https://www.ariarathes-duo.com/en/veranstaltung/camille-saint-saens-cellokonzert-nr-1-op-33/
LOCATION:Peter Thalguter Haus\, Algund\, Italy
CATEGORIES:Solo Jakob
END:VEVENT
BEGIN:VEVENT
DTSTART;VALUE=DATE:20231112
DTEND;VALUE=DATE:20231113
DTSTAMP:20260419T185755
CREATED:20231121T102209Z
LAST-MODIFIED:20231121T102231Z
UID:1068-1699747200-1699833599@www.ariarathes-duo.com
SUMMARY:Matinée mit Werken von Robert Zorn
DESCRIPTION:mit Mitgliedern des Tiroler Symphonieorchesters
URL:https://www.ariarathes-duo.com/en/veranstaltung/matinee-mit-werken-von-robert-zorn/
LOCATION:Haus der Musik\, Innsbruck\, Austria
CATEGORIES:Solo Jakob
END:VEVENT
BEGIN:VEVENT
DTSTART;VALUE=DATE:20230903
DTEND;VALUE=DATE:20230904
DTSTAMP:20260419T185755
CREATED:20231121T102025Z
LAST-MODIFIED:20231121T102031Z
UID:1065-1693699200-1693785599@www.ariarathes-duo.com
SUMMARY:Kammerkonzert mit Werken von Devienne und Weber
DESCRIPTION:mit Mitgliedern des Tiroler Symphonieorchesters
URL:https://www.ariarathes-duo.com/en/veranstaltung/kammerkonzert-mit-werken-von-devienne-und-weber/
LOCATION:Pfarrkirche Igls\, Igls\, Austria
CATEGORIES:Solo Jakob
END:VEVENT
END:VCALENDAR